BEGIN:VCALENDAR
VERSION:2.0
PRODID:-//eventon.com NONSGML v1.0//EN
BEGIN:VEVENT
UID:69ecf2d2c1394
DTSTAMP:20260425T175858
DTSTART:20210425T230000Z
DTEND:20210427T225900Z
LOCATION:Online 
SUMMARY:World Congress on Healthcare & Technologies
DESCRIPTION: &nbsp; Visit Event Website Hear Explore and learn the latest research. Present before distinguished global audience. Collaborate\,  build partnerships and experience in Copenhagen. Join the global academic community. It is our great pleasure and honour to extend to you a warm welcome to attend the “7th World Congress on Health Economics\, [..]
URL:https://www.covinform.eu/events/world-congress-on-healthcare-technologies/
END:VEVENT
END:VCALENDAR